BEGIN:VCALENDAR
VERSION:2.0
PRODID:-//Veterinary Management Council Of CT - ECPv6.15.20//NONSGML v1.0//EN
CALSCALE:GREGORIAN
METHOD:PUBLISH
X-ORIGINAL-URL:https://vmcc-ct.org
X-WR-CALDESC:Events for Veterinary Management Council Of CT
REFRESH-INTERVAL;VALUE=DURATION:PT1H
X-Robots-Tag:noindex
X-PUBLISHED-TTL:PT1H
BEGIN:VTIMEZONE
TZID:America/New_York
BEGIN:DAYLIGHT
TZOFFSETFROM:-0500
TZOFFSETTO:-0400
TZNAME:EDT
DTSTART:20240310T070000
END:DAYLIGHT
BEGIN:STANDARD
TZOFFSETFROM:-0400
TZOFFSETTO:-0500
TZNAME:EST
DTSTART:20241103T060000
END:STANDARD
BEGIN:DAYLIGHT
TZOFFSETFROM:-0500
TZOFFSETTO:-0400
TZNAME:EDT
DTSTART:20250309T070000
END:DAYLIGHT
BEGIN:STANDARD
TZOFFSETFROM:-0400
TZOFFSETTO:-0500
TZNAME:EST
DTSTART:20251102T060000
END:STANDARD
BEGIN:DAYLIGHT
TZOFFSETFROM:-0500
TZOFFSETTO:-0400
TZNAME:EDT
DTSTART:20260308T070000
END:DAYLIGHT
BEGIN:STANDARD
TZOFFSETFROM:-0400
TZOFFSETTO:-0500
TZNAME:EST
DTSTART:20261101T060000
END:STANDARD
END:VTIMEZONE
BEGIN:VEVENT
DTSTART;TZID=America/New_York:20250212T080000
DTEND;TZID=America/New_York:20250212T120000
DTSTAMP:20260424T133412
CREATED:20250102T154505Z
LAST-MODIFIED:20250113T154742Z
UID:3193-1739347200-1739361600@vmcc-ct.org
SUMMARY:Monica Perry-Dixon
DESCRIPTION:VMCC Winter Meeting\nFeaturing Monica Dixon-Perry\nof Berry Dunn\n(formerly known as Burzenski and Co)\n  \nTopics of the day!\nRekindling the Spark: Igniting Passion in Veterinary Professionals Amidst Ongoing Challenges\n \nWhat in the World is Happening?!?! Tackling Employee Recruiting and Retention \nMaking Data Work for You: Increasing Veterinary Hospital Revenue by Tracking Key Metrics\n \n  \n \nAs a Senior Manager in BerryDunn’s Outsourced Accounting Practice Group\, Monica brings a wealth of knowledge in guiding veterinary practices to enhance their operations\, optimize processes\, and strengthen their community impact. With nearly four decades in the veterinary field\, Monica offers a unique perspective\, balancing empathy and insight to address the needs of her clients. She collaborates closely with stakeholders to develop tailored strategies that leverage available resources while staying at the forefront of industry trends and best practices.  \nMonica’s expertise includes advising veterinary practices of all scales on strategies to achieve sustainable growth\, improve organizational culture\, and enhance operational performance. She is recognized for her ability to foster unity\, address complex challenges\, and navigate the evolving landscape of veterinary care to support practice owners and leaders in fulfilling their strategic vision. \nMonica’s career journey has spanned diverse roles in veterinary leadership\, from overseeing a multi-doctor hospital to serving as Vice President of Strategic Partnerships at Mission Veterinary Partners. Monica is a frequent speaker on the global veterinary speaking circuit and is available for speaking engagements.
URL:https://vmcc-ct.org/events/monica-perry-dixon/
LOCATION:Testa’s\, 26 South Center Street\, Southington\, CT\, 06489
CATEGORIES:Continuing Education,Networking
END:VEVENT
END:VCALENDAR