BEGIN:VCALENDAR
VERSION:2.0
PRODID:-//Veterinary Management Council Of CT - ECPv6.15.20//NONSGML v1.0//EN
CALSCALE:GREGORIAN
METHOD:PUBLISH
X-WR-CALNAME:Veterinary Management Council Of CT
X-ORIGINAL-URL:https://vmcc-ct.org
X-WR-CALDESC:Events for Veterinary Management Council Of CT
REFRESH-INTERVAL;VALUE=DURATION:PT1H
X-Robots-Tag:noindex
X-PUBLISHED-TTL:PT1H
BEGIN:VTIMEZONE
TZID:America/New_York
BEGIN:DAYLIGHT
TZOFFSETFROM:-0500
TZOFFSETTO:-0400
TZNAME:EDT
DTSTART:20240310T070000
END:DAYLIGHT
BEGIN:STANDARD
TZOFFSETFROM:-0400
TZOFFSETTO:-0500
TZNAME:EST
DTSTART:20241103T060000
END:STANDARD
BEGIN:DAYLIGHT
TZOFFSETFROM:-0500
TZOFFSETTO:-0400
TZNAME:EDT
DTSTART:20250309T070000
END:DAYLIGHT
BEGIN:STANDARD
TZOFFSETFROM:-0400
TZOFFSETTO:-0500
TZNAME:EST
DTSTART:20251102T060000
END:STANDARD
BEGIN:DAYLIGHT
TZOFFSETFROM:-0500
TZOFFSETTO:-0400
TZNAME:EDT
DTSTART:20260308T070000
END:DAYLIGHT
BEGIN:STANDARD
TZOFFSETFROM:-0400
TZOFFSETTO:-0500
TZNAME:EST
DTSTART:20261101T060000
END:STANDARD
END:VTIMEZONE
BEGIN:VEVENT
DTSTART;TZID=America/New_York:20251112T083000
DTEND;TZID=America/New_York:20251112T083000
DTSTAMP:20260423T222319
CREATED:20250206T171226Z
LAST-MODIFIED:20250927T130933Z
UID:3305-1762936200-1762936200@vmcc-ct.org
SUMMARY:You Say More Than You Think- Janine Driver
DESCRIPTION:VMCC ANNUAL MEETING\n\n \n\nFEATURING:\n \nJanine Driver is the CEO of the Body Language Institute\, the NY Times Best-Selling author of YOU SAY MORE THAN YOU THINK and top business-seller YOU CAN’T LIE TO ME\, an international trainer\, an award-winning keynote speaker\, and a retired ATF Investigator. \nJanine spent over 16 years as a federal law enforcement officer within the Department of Justice and now shares her cunning people-reading skills and verbal judo with thousands who work in the field of executive leadership\, law enforcement \, finance\, law\, human resources and sales; as well as the ATF\, FBI\, CIA\, and DIA. \nJanine has been ranked #1 in the “Inspiration” category in the World’s Top 30 Body Language Professionals and has been named one of the top twenty educational trendsetters in the meetings industry by Meetings Today magazine. Janine is a popular media guest on NBC’s TODAY Show\, Live with Kelly and Mark\, Court TV\, CNN Morning Show\, MSNBC\, and more. She is often quoted in publications\, such as the New York Times\, the Washington Post\, Cosmopolitan and Psychology Today. \nJanine’s corporate clients include top companies in the Fortune 500. We invited Janine to be with us today because We asked Janine to join us today to expand our knowledge on leadership and body language. \nFUN FACT: In the mid 90s while Janine worked as a Public Information Officer for ATF in NYC\, in the World Trade Center\, she did stand-up comedy at night. She even opened for Robin Williams\, Chris Rock\, and Ray Romano at Stand-up New York Comedy Club. \nTopics:\nYou Say More Than You Think – Based on her New York Times Best seller\nNew Body Language to Enhance Leadership\nInnovative Thinking\nInterviewing\nThank you to our SPONSORS!\nThank you to our GOLD SPONSOR\n \nThank you to our SILVER SPONSOR\n \nThank you Purina for sponsoring our Comedian and Happy Hour\n \nThank you to our sponsors\n \n 
URL:https://vmcc-ct.org/events/janine-driver/
LOCATION:Mohegan Sun\, 1 Mohegan Sun Boulevard\, Uncasville\, CT\, 06382\, United States
CATEGORIES:Continuing Education,Networking
ATTACH;FMTTYPE=image/jpeg:https://vmcc-ct.org/wp-content/uploads/2025/02/JanineDriver-headshot-2023.jpg
END:VEVENT
END:VCALENDAR